Workbook

Sheet 【1】入居申込書＆受付簿入力シート
A1: 様式第１号 | C1: ="提出先⇒"&IFERROR(VLOOKUP(D10,[1]郵便番号表!A:C,3,0),"")&" "&VLOOKUP(A121,[1]初期設定!A17:G49,2,FALSE) -> #N/A | H1: 受付番号 | J1: =TODAY() -> 46302 | L1: =IF(COUNTIF(C11,"*横浜市*")=1,"横浜市",IF(COUNTIF(C11,"*川崎市*")=1,"川崎市",IF(COUNTIF(C11,"*相模原市*")=1,"相模原市","神奈川県"))) -> 神奈川県
H2: （申込先市町村記入欄）
C3: =L1&" 賃貸型応急住宅 入居申込書" -> 神奈川県 賃貸型応急住宅 入居申込書 | H3: 番号 | I3: ='[1]受付簿（自動反映）'!C7 -> 0 | J3: ←受付後に市町村が入力します
C4: （令和８年台風第25号にかかる災害） | H4: 受付日 | J4: ←受付後に市町村が入力します
A6: 以下により、賃貸型応急住宅を申し込みます。 | T6: TRUE
A7: 【１ 入居対象者（代表者）】 | Q7: FALSE | R7: 民間賃貸住宅 | T7: =VLOOKUP(T6,Q7:R12,2,0) -> #N/A
A8: フリガナ | C8: =PHONETIC(C9) | Q8: FALSE | R8: 公営住宅
A9: 氏名 | Q9: FALSE | R9: 社宅・寮
A10: 被災時の住所 | C10: 〒 | Q10: FALSE | R10: ホテル・旅館
C11: =IFERROR(VLOOKUP(D10,[1]郵便番号表!A:B,2,0),"") | Q11: FALSE | R11: 親戚・知人宅
A12: 現在の居住地 （避難施設等） | C12: 〒 | Q12: FALSE | R12: 避難所
C13: =IFERROR(VLOOKUP(D12,[1]郵便番号表!A:B,2,0),"")
G14: （避難所の場合） 避難所名
A15: 電話番号 | C15: 日中に連絡がつく電話番号をご記入ください
F16: 【携帯番号】 | T16: TRUE
A17: 入居決定通知書 の受取方法
A18: ※「現在の居住地」以外に郵送を希望する場合の宛先 | C18: 〒 | Q18: FALSE | R18: 郵送 | T18: =VLOOKUP(T16,Q18:R20,2,0) -> #N/A
Q19: FALSE | R19: 申し込み窓口
A21: 【入居予定者】 | J21: =DATEDIF(J19,L19,y) -> #VALUE!
A22: フリガナ | D22: 続柄 | E22: 年齢 | F22: 生年月日 | H22: 備考(高齢者､障がい者､要介護等の特記事項があれば記入)
A23: 氏名
A24: =PHONETIC(A25) | D24: 本人 | T24: 家賃算定人数
E25: =IF(F25=0,"",DATEDIF(F25,$J$1,"y")) | J25: 和暦/月/日 ⇒S46/08/15(全て半角で入力) | K25: 西暦/月/日 ⇒2019/08/15(全て半角で入力) | T25: =IF(E25="","",IF(E25>=10,1,IF(E25>=6,0.75,IF(E25>=3,0.5,IF(E25>0,0.25,0)))))
A26: =PHONETIC(A27) | T26: =IF(E27="","",IF(E27>=10,1,IF(E27>=6,0.75,IF(E27>=3,0.5,IF(E27>0,0.25,0)))))
E27: =IF(F27=0,"",DATEDIF(F27,$J$1,"y"))
A28: =PHONETIC(A29) | T28: =IF(E29="","",IF(E29>=10,1,IF(E29>=6,0.75,IF(E29>=3,0.5,IF(E29>=0,0.25,0)))))
E29: =IF(F29=0,"",DATEDIF(F29,$J$1,"y"))
A30: =PHONETIC(A31) | T30: =IF(E31="","",IF(E31>=10,1,IF(E31>=6,0.75,IF(E31>=3,0.5,IF(E31>=0,0.25,"")))))
E31: =IF(F31=0,"",DATEDIF(F31,$J$1,"y"))
A32: =PHONETIC(A33) | T32: =IF(E31="","",IF(E33>=10,1,IF(E33>=6,0.75,IF(E33>=3,0.5,IF(E33>=0,0.25,0)))))
E33: =IF(F33=0,"",DATEDIF(F33,$J$1,"y"))
A34: =PHONETIC(A35) | T34: =IF(E31="","",IF(E35>=10,1,IF(E35>=6,0.75,IF(E35>=3,0.5,IF(E35>=0,0.25,"")))))
E35: =IF(F35=0,"",DATEDIF(F35,$J$1,"y")) | T35: =ROUNDUP(SUM(T25:T34),0) -> 0
A36: 入居予定人数 | D36: =COUNTA(D24:D35) -> 1 | E36: 人
Q37: FALSE | R37: K | T37: TRUE
A38: ～～～以下の項目については、不動産店の協力のもと、ご記入ください。～～～ | Q38: FALSE | R38: DK | T38: =VLOOKUP(T37,Q37:R41,2,0) -> #N/A
A39: 【２ 賃貸型応急住宅の状況】 | Q39: FALSE | R39: LDK
A40: 住宅の所在地 | C40: 〒 | Q40: FALSE | R40: SLDK
C41: =IFERROR(VLOOKUP(D40,[1]郵便番号表!A:B,2,0),"") | Q41: FALSE | R41: ワンルーム
A42: 住宅の名称等 | G42: 部屋番号 | T42: TRUE
...
