Workbook

Sheet 【1】入居申込書＆受付簿入力シート
A1: 様式第１号 | C1: ="提出先⇒"&IFERROR(VLOOKUP(D10,[1]郵便番号表!A:C,3,0),"")&" "&VLOOKUP(A121,[1]初期設定!A17:G49,2,FALSE) -> #N/A | H1: 受付番号 | J1: =TODAY() -> 46302 | L1: =IF(COUNTIF(C11,"*横浜市*")=1,"横浜市",IF(COUNTIF(C11,"*川崎市*")=1,"川崎市",IF(COUNTIF(C11,"*相模原市*")=1,"相模原市","神奈川県"))) -> 神奈川県
H2: （申込先市町村記入欄）
C3: =L1&" 賃貸型応急住宅 入居申込書" -> 神奈川県 賃貸型応急住宅 入居申込書 | H3: 番号 | I3: ='[1]受付簿（自動反映）'!C7 -> 0 | J3: ←受付後に市町村が入力します
C4: （令和８年台風第25号にかかる災害） | H4: 受付日 | J4: ←受付後に市町村が入力します
A6: 以下により、賃貸型応急住宅を申し込みます。 | T6: TRUE
A7: 【１ 入居対象者（代表者）】 | Q7: FALSE | R7: 民間賃貸住宅 | T7: =VLOOKUP(T6,Q7:R12,2,0) -> #N/A
A8: フリガナ | C8: =PHONETIC(C9) | Q8: FALSE | R8: 公営住宅
A9: 氏名 | Q9: FALSE | R9: 社宅・寮
A10: 被災時の住所 | C10: 〒 | Q10: FALSE | R10: ホテル・旅館
C11: =IFERROR(VLOOKUP(D10,[1]郵便番号表!A:B,2,0),"") | Q11: FALSE | R11: 親戚・知人宅
A12: 現在の居住地 （避難施設等） | C12: 〒 | Q12: FALSE | R12: 避難所
C13: =IFERROR(VLOOKUP(D12,[1]郵便番号表!A:B,2,0),"")
G14: （避難所の場合） 避難所名
A15: 電話番号 | C15: 日中に連絡がつく電話番号をご記入ください
F16: 【携帯番号】 | T16: TRUE
A17: 入居決定通知書 の受取方法
A18: ※「現在の居住地」以外に郵送を希望する場合の宛先 | C18: 〒 | Q18: FALSE | R18: 郵送 | T18: =VLOOKUP(T16,Q18:R20,2,0) -> #N/A
Q19: FALSE | R19: 申し込み窓口
A21: 【入居予定者】 | J21: =DATEDIF(J19,L19,y) -> #VALUE!
A22: フリガナ | D22: 続柄 | E22: 年齢 | F22: 生年月日 | H22: 備考(高齢者､障がい者､要介護等の特記事項があれば記入)
A23: 氏名
A24: =PHONETIC(A25) | D24: 本人 | T24: 家賃算定人数
E25: =IF(F25=0,"",DATEDIF(F25,$J$1,"y")) | J25: 和暦/月/日 ⇒S46/08/15(全て半角で入力) | K25: 西暦/月/日 ⇒2019/08/15(全て半角で入力) | T25: =IF(E25="","",IF(E25>=10,1,IF(E25>=6,0.75,IF(E25>=3,0.5,IF(E25>0,0.25,0)))))
A26: =PHONETIC(A27) | T26: =IF(E27="","",IF(E27>=10,1,IF(E27>=6,0.75,IF(E27>=3,0.5,IF(E27>0,0.25,0)))))
E27: =IF(F27=0,"",DATEDIF(F27,$J$1,"y"))
A28: =PHONETIC(A29) | T28: =IF(E29="","",IF(E29>=10,1,IF(E29>=6,0.75,IF(E29>=3,0.5,IF(E29>=0,0.25,0)))))
E29: =IF(F29=0,"",DATEDIF(F29,$J$1,"y"))
A30: =PHONETIC(A31) | T30: =IF(E31="","",IF(E31>=10,1,IF(E31>=6,0.75,IF(E31>=3,0.5,IF(E31>=0,0.25,"")))))
E31: =IF(F31=0,"",DATEDIF(F31,$J$1,"y"))
A32: =PHONETIC(A33) | T32: =IF(E31="","",IF(E33>=10,1,IF(E33>=6,0.75,IF(E33>=3,0.5,IF(E33>=0,0.25,0)))))
E33: =IF(F33=0,"",DATEDIF(F33,$J$1,"y"))
A34: =PHONETIC(A35) | T34: =IF(E31="","",IF(E35>=10,1,IF(E35>=6,0.75,IF(E35>=3,0.5,IF(E35>=0,0.25,"")))))
E35: =IF(F35=0,"",DATEDIF(F35,$J$1,"y")) | T35: =ROUNDUP(SUM(T25:T34),0) -> 0
A36: 入居予定人数 | D36: =COUNTA(D24:D35) -> 1 | E36: 人
Q37: FALSE | R37: K | T37: TRUE
A38: ～～～以下の項目については、不動産店の協力のもと、ご記入ください。～～～ | Q38: FALSE | R38: DK | T38: =VLOOKUP(T37,Q37:R41,2,0) -> #N/A
A39: 【２ 賃貸型応急住宅の状況】 | Q39: FALSE | R39: LDK
A40: 住宅の所在地 | C40: 〒 | Q40: FALSE | R40: SLDK
C41: =IFERROR(VLOOKUP(D40,[1]郵便番号表!A:B,2,0),"") | Q41: FALSE | R41: ワンルーム
A42: 住宅の名称等 | G42: 部屋番号 | T42: TRUE
A43: 住宅の間取り | C43: 部屋数をご記入し、間取りを選択してください→ | T43: =VLOOKUP(T42,Q44:R45,2,0) -> #N/A
A44: 耐震性の有無 | Q44: FALSE | R44: □昭和56年6月以降に建築
A45: 貸主の同意 | C45: 神奈川県が借り上げて入居対象者に提供することついての貸主同意 | Q45: FALSE | R45: その他
C46: 同意確認日 | F46: 同意を確認した貸主等の氏名 | J46: ←貸主が（個人の場合）氏名、（法人の場合）法人の担当者等の氏名
C47: 確認方法 | F47: （ | I47: ）
A48: 費用 （神奈川県負担分） | C48: 家賃（月額） | G48: 神奈川県負担 | T48: TRUE
C49: 礼金 | G49: 神奈川県負担（賃料１ヶ月分を上限）
C50: 退去修繕負担金 | G50: 神奈川県負担（１年あたり賃料１ヶ月分を上限） | Q50: FALSE | R50: あり | T50: =VLOOKUP(T48,Q50:R51,2,0) -> #N/A
C51: 仲介手数料 | E51: =E48*0.55 -> 0 | G51: 神奈川県負担（賃料0.55ヶ月分（税込）を上限） | Q51: FALSE | R51: なし
C52: 保険料 | G52: 神奈川県が別途包括保険に加入
C53: 共益費（管理費を含む） | G53: 神奈川県負担（通常徴収している額）
C54: 入居時鍵等交換費用 | G54: 神奈川県負担（社会通念上必要な額を限度） ※税込金額を記入のこと
C55: ※退去修繕負担金の上限を超える原状回復費用は、入居者の負担となります。
A56: 費用 （入居者負担分） | C56: 駐車場料金 | E56: 0 | G56: ※入居者負担
C57: 自治会費 その他経費 | E57: 0 | G57: ※入居者負担
C58: ※駐車場料金、自治会費その他経費は入居者負担です。
M59: TRUE
A60: ～～～以下の項目については、不動産店の協力のもと、ご記入ください。～～～ | Q60: TRUE | R60: DK | T60: =VLOOKUP(T59,Q59:R64,2,0) -> #N/A
A61: 【３ 貸主及び仲介業者等】当該住宅を賃貸型応急住宅として提供するための賃貸借契約手続きに関わる者
A62: （法人の場合は、主たる事務所の所在地、商号又は名称及び代表者の役職氏名を記載してください。 ）
A63: 契約形態 | J63: FALSE | K63: 仲介 | M63: =VLOOKUP(M59,J63:K65,2,0) -> #N/A
A64: １ 貸主 | C64: 氏名 | J64: FALSE | K64: 貸主
C65: 住所 | D65: 〒 | J65: FALSE | K65: 貸主代理
D66: =IFERROR(VLOOKUP(E65,[1]郵便番号表!A:B,2,0),"")
C67: 電話番号 | G67: ＦＡＸ番号
A68: ２ 管理者 (貸主から事務代行を受けた不動産業者) | C68: 氏名
C69: 住所 | D69: 〒
D70: =IFERROR(VLOOKUP(E69,[1]郵便番号表!A:B,2,0),"")
C71: 電話番号 | G71: ＦＡＸ番号
A72: ３ 仲介業者 又は貸主代理業者 | C72: 商号又は 名称
C73: 代表者の職・氏名 | J73: 例：代表取締役 ○○ ○○
C74: 主たる 事務所 | J74: 例：○○本店
C75: 所在地 | D75: 〒 | T75: TRUE
D76: =IFERROR(VLOOKUP(E75,[1]郵便番号表!A:B,2,0),"")
C77: 電話番号 | G77: ＦＡＸ番号 | T77: =VLOOKUP(T75,Q78:R81,2,0) -> #N/A
C78: 免許証 番号 | G78: 免許 年月日 | Q78: FALSE | R78: 神奈川県宅地建物取引業協会
C79: 担当者の 氏名 | G79: 携帯番号 | Q79: FALSE | R79: 全日本不動産協会神奈川県本部
A80: １又は３の者が 所属する団体名 | Q80: FALSE | R80: 全国賃貸住宅経営者協会連合会
A81: 【４ 確認事項】 該当する項目に☑を付けてください。 | Q81: FALSE | R81: その他
A82: ① 被災した住宅の状況
A85: ② 災害時（三浦市においては令和8年9月20日横須賀市においては令和8年9月21日時点）において横須賀市、三浦市に居住していました。
A86: ③ 自らの資力をもっては住宅を確保することができません。
A87: ④ 同居家族を含め、既に災害救助法に基づく応急仮設住宅の提供を受けていません。
A88: ⑤ 災害救助法に基づく応急修理制度を利用する場合は、応急修理期間が1か月を超える見込みであり、また、同法に基づく障害物の除去制度は利用していません。 | I88: 応急修理の利用
A89: ⑥ 申込者および入居者が暴力団員による不当な行為の防止等に関する法律（平成３年法律第77号）に規定する暴力団員、暴力団準構成員、元暴力団構成員及び元暴力団準構成員（以下「暴力団員等」という。）並びに暴力団員等と取引のある者ではありません。また、入居する者が暴力団員であるか否かを県警本部に照会されることに同意します。
A90: ⑦ 申請内容が事実と相違することがあった場合や、照会の結果、私又は同居する者が暴力団員等であった場合には、入居が無効となることを承知しています。また、入居や契約が無効となっても、一切異議申し立ては致しません。
A91: ⑧ 入居する賃貸型応急住宅について、駐車場料金、自治会費その他経費、退去修繕負担金の上限を超える原状回復費用は、自己負担であることを理解しています。
A92: ⑨ 入居する賃貸型応急住宅について、入居条件を遵守して使用し、定められた期限までに必ず退去します。
A93: ⑩ 入居後、生活実態がない場合など、申請内容の不実及び入居条件違反等が判明した場合、原状回復し、直ちに退去します。
A94: ⑪ 記載された個人情報について、被災者支援上他の行政機関等に提供することへ同意します。
A95: （注１）「賃貸型応急住宅」とは、民間賃貸住宅などを神奈川県などが借上げて提供する住宅です。
A96: この申込書に記載の内容について事実に相違はありません。
D97: （入居対象者（代表者）の署名欄） | E97: 年 月 日
E99: 氏名
A101: ≪手続代行者≫ 次の者を賃貸型応急住宅に係る申込等手続の代行者として選任します。
A102: 会社名
A103: 住 所
A104: 連絡先 | F104: 氏 名
A105: メールアドレス | J105: =INDIRECT("A106") -> 0
A117: 市町村名 | B117: 担当課名 | F117: 担当課メールアドレス
...
